BEGIN:VCALENDAR
VERSION:2.0
PRODID:DPCALENDAR
CALSCALE:GREGORIAN
BEGIN:VTIMEZONE
TZID:Europe/Rome
BEGIN:STANDARD
DTSTART:20251026T010000
TZOFFSETFROM:+0200
TZOFFSETTO:+0100
TZNAME:CET
END:STANDARD
BEGIN:STANDARD
DTSTART:20261025T010000
TZOFFSETFROM:+0200
TZOFFSETTO:+0100
TZNAME:CET
END:STANDARD
BEGIN:DAYLIGHT
DTSTART:20260329T010000
TZOFFSETFROM:+0100
TZOFFSETTO:+0200
TZNAME:CEST
END:DAYLIGHT
END:VTIMEZONE
X-WR-TIMEZONE:Europe/Rome
BEGIN:VEVENT
DTSTART;VALUE=DATE:20220129
DTEND;VALUE=DATE:20220130
UID:EFABE137-EE43-4180-B1E5-A12A16031058
SUMMARY:Centenario Sezione ANA Trieste 
CREATED:20210621T080718Z
DTSTAMP:20210621T080718Z
DESCRIPTION:
X-ALT-DESC;FMTTYPE=text/html:
LOCATION:Via della Geppa 2\, 34132 Trieste\, Friuli Venezia Giulia\, Italia
GEO:45.65588800;13.77172970
LAST-MODIFIED:20210621T080927Z
SEQUENCE:129
X-ACCESS:1
X-HITS:913
X-URL:https://anatrieste.it/index.php?option=com_dpcalendar&view=event&id=24&calid=70
X-COLOR:3366cc
X-SHOW-END-TIME:0
END:VEVENT
BEGIN:VEVENT
DTSTART;TZID=Europe/Rome:20220211T100000
DTEND;TZID=Europe/Rome:20220211T110000
UID:58B8D2B4-AFD7-447C-96C7-33473854B8F7
SUMMARY:Cerimonia ufficiale per il centenario della Sezione A.N.A. di Trieste
CREATED:20220203T090911Z
DTSTAMP:20220203T090911Z
DESCRIPTION:ore 10.00 - ritrovo degli Alpini partecipanti in via Giustiniano (portico Liceo Dante).\Nore 10.15 - trasferimento ordinato degli Alpini (con in testa il Labaro ed il Presidente Nazionale) lungo via Giustiniano sino al monumento agli Alpini in Foro Ulpiano, dove saranno già presenti le autorità e le altre Associazioni d'Arma.\Nore 10.30 – deposizione corona d'alloro, benedizione del cappellano sezionale, recita della Preghiera dell'Alpino, allocuzioni del Presidente Sezionale, del Presidente Nazionale e delle autorità.\N \NConsiderata l'importanza e visibilità della manifestazione, si raccomanda la massima presenza.
X-ALT-DESC;FMTTYPE=text/html:<p class="v1msonormal" style="margin-bottom: 0cm; text-align: center;" align="center"><span style="font-size: 14.0pt; font-family: 'Times New Roman',serif; color: #575757;">ore 10.00 - ritrovo degli Alpini partecipanti in via Giustiniano (portico Liceo Dante).</span></p><p class="v1msonormal" style="margin-bottom: 0cm; text-align: center;" align="center"><span style="font-size: 14.0pt; font-family: 'Times New Roman',serif; color: #575757;">ore 10.15 - trasferimento ordinato degli Alpini (con in testa il Labaro ed il Presidente Nazionale) lungo via Giustiniano sino al monumento agli Alpini in Foro Ulpiano, dove saranno già presenti le autorità e le altre Associazioni d'Arma.</span></p><p class="v1msonormal" style="margin-bottom: 0cm; text-align: center;" align="center"><span style="font-size: 14.0pt; font-family: 'Times New Roman',serif; color: #575757;">ore 10.30 – deposizione corona d'alloro, benedizione del cappellano sezionale, recita della Preghiera dell'Alpino, allocuzioni del Presidente Sezionale, del Presidente Nazionale e delle autorità.</span></p><p class="v1msonormal" style="margin-bottom: 0cm; text-align: center;" align="center"><span style="font-size: 14.0pt; font-family: 'Times New Roman',serif; color: #575757;"> </span></p><p class="v1msonormal" style="margin-bottom: 0cm; text-align: center;" align="center"><span style="font-size: 14.0pt; font-family: 'Times New Roman',serif; color: #575757;">Considerata l'importanza e visibilità della manifestazione, si raccomanda la massima presenza.</span></p>
LOCATION:Foro Ulpiano 3\, 34133 Trieste\, Friuli Venezia Giulia\, Italia
GEO:45.65496530;13.77909780
X-ACCESS:1
X-HITS:52
X-URL:https://anatrieste.it/index.php?option=com_dpcalendar&view=event&id=43&calid=70
X-COLOR:3366cc
X-SHOW-END-TIME:0
END:VEVENT
BEGIN:VEVENT
DTSTART;TZID=Europe/Rome:20220212T200000
DTEND;TZID=Europe/Rome:20220212T210000
UID:70C6C77C-E2A2-4FA1-9A8E-268CE844F3F2
SUMMARY:Concerto del Centenario
CREATED:20220203T081007Z
DTSTAMP:20220203T081007Z
DESCRIPTION:alle ore 20.00 presso la chiesa Evangelica Luterana di Largo Panfili si svolgerà un concerto di cori alpini in cui si esibiranno il cori A.N.A. "Nino Baldi" di Trieste e "Ardito Desio" di Palmanova. Ingresso libero, nel rispetto delle vigenti norme anti-Covid (green pass rafforzato). Allegata locandina.
X-ALT-DESC;FMTTYPE=text/html:<p class="v1msonormal" style="margin-bottom: 0cm; text-align: justify;" align="center"><span style="font-size: 14.0pt; font-family: 'Times New Roman',serif; color: #575757;">alle ore 20.00 presso la chiesa Evangelica Luterana di Largo Panfili si svolgerà un concerto di cori alpini in cui si esibiranno il cori A.N.A. "Nino Baldi" di Trieste e "Ardito Desio" di Palmanova. Ingresso libero, nel rispetto delle vigenti norme anti-Covid (green pass rafforzato). Allegata locandina.</span></p>
LOCATION:Largo Odorico Panfili 1\, 34132 Trieste\, Trieste\, Italia
GEO:45.65483780;13.77191300
LAST-MODIFIED:20220203T101314Z
SEQUENCE:7387
X-ACCESS:1
X-HITS:134
X-URL:https://anatrieste.it/index.php?option=com_dpcalendar&view=event&id=45&calid=70
X-COLOR:3366cc
X-SHOW-END-TIME:0
END:VEVENT
BEGIN:VEVENT
DTSTART;TZID=Europe/Rome:20220430T110000
DTEND;TZID=Europe/Rome:20220430T123000
UID:9DF83C1C-F771-4A16-B6A4-6275804D3D41
SUMMARY:Concerto Coro ANA Trieste
CREATED:20220427T104847Z
DTSTAMP:20220427T104847Z
DESCRIPTION:
X-ALT-DESC;FMTTYPE=text/html:
LOCATION:34015 Muggia\, Friuli-Venezia Giulia\, Italia
GEO:45.60420329;13.76752106
LAST-MODIFIED:20220427T105301Z
SEQUENCE:254
X-ACCESS:1
X-HITS:67
X-URL:https://anatrieste.it/index.php?option=com_dpcalendar&view=event&id=50&calid=70
X-COLOR:3366cc
X-SHOW-END-TIME:1
END:VEVENT
BEGIN:VEVENT
DTSTART;TZID=Europe/Rome:20220519T180000
DTEND;TZID=Europe/Rome:20220519T190000
UID:8FFE03AE-27BF-419E-BF44-7BB248FDAC6B
SUMMARY:Gli alpini cantano in piazza
CREATED:20220516T080130Z
DTSTAMP:20220516T080130Z
DESCRIPTION:nell'ambito della rassegna "Gli alpini cantano in piazza" il coro sezionale "Nino Baldi" si esibirà in Campo San Giacomo (dietro la chiesa)
X-ALT-DESC;FMTTYPE=text/html:<p>nell'ambito della rassegna "Gli alpini cantano in piazza" il coro sezionale "Nino Baldi" si esibirà in Campo San Giacomo (dietro la chiesa)</p>
LOCATION:Campo San Giacomo\, Trieste\, Friuli-Venezia Giulia\, Italia
GEO:45.64292679;13.77924800
LAST-MODIFIED:20220516T080157Z
SEQUENCE:27
X-ACCESS:1
X-HITS:62
X-URL:https://anatrieste.it/index.php?option=com_dpcalendar&view=event&id=55&calid=70
X-COLOR:3366cc
X-SHOW-END-TIME:0
END:VEVENT
BEGIN:VEVENT
DTSTART;TZID=Europe/Rome:20220609T180000
DTEND;TZID=Europe/Rome:20220609T190000
UID:FF01E150-80CE-40AE-B948-882F57A1ECD2
SUMMARY:Concerto "Alpini in Piazza"
CREATED:20220527T063522Z
DTSTAMP:20220527T063522Z
DESCRIPTION:concerto del coro sezionale "Nino Baldi" nell'ambito della rassegna "Gli Alpini cantano in piazza" di cui si allega la locandina. In segreteria sono disponibili le locandine per chi è interessato a farle esporre presso esercizi pubblici di amici o conoscenti.
X-ALT-DESC;FMTTYPE=text/html:<p><span style="font-family: Arial, sans-serif; font-size: 14pt;">concerto del coro sezionale "Nino Baldi" nell'ambito della rassegna "Gli Alpini cantano in piazza" di cui si allega la locandina. In segreteria sono disponibili le locandine per chi è interessato a farle esporre presso esercizi pubblici di amici o conoscenti.</span></p>
LOCATION:Piazzale Monte Re\, 34151 Opicina\, Friuli-Venezia Giulia\, Italia
GEO:45.68614840;13.78794650
LAST-MODIFIED:20220527T070103Z
SEQUENCE:1541
X-ACCESS:1
X-HITS:56
X-URL:https://anatrieste.it/index.php?option=com_dpcalendar&view=event&id=59&calid=70
X-COLOR:3366cc
X-SHOW-END-TIME:0
END:VEVENT
BEGIN:VEVENT
DTSTART;VALUE=DATE:20220624
DTEND;VALUE=DATE:20220627
UID:F1B4547F-3446-4E88-97F1-86CC324BDA73
SUMMARY:Gara del Centenario  - Carabina e Pistola
CREATED:20220527T064212Z
DTSTAMP:20220527T064212Z
DESCRIPTION:Venerdì 24, sabato 25 e domenica 26 giugno: Gara del Centenario della Sezione "Guido Corsi",\N gara di tiro con carabina e pistola presso il poligono di Opicina (allegato il regolamento della gara). \NServiranno alcuni volontari da adibire alla registrazione dei concorrenti: comunicare la disponibilità in segreteria.
X-ALT-DESC;FMTTYPE=text/html:<p class="v1v1MsoNormal" style="margin-bottom: 0.0001pt; text-align: center;"><span style="font-family: Arial, sans-serif; font-size: 14pt;"><strong>Venerdì 24, sabato 25 e domenica 26 giugno: Gara del Centenario della Sezione "Guido Corsi",</strong></span></p><p class="v1v1MsoNormal" style="margin-bottom: 0.0001pt; text-align: center;"><span style="font-family: Arial, sans-serif; font-size: 14pt;"> gara di tiro con carabina e pistola presso il poligono di Opicina (allegato il regolamento della gara). </span></p><p class="v1v1MsoNormal" style="margin-bottom: 0.0001pt; text-align: center;"><span style="font-family: Arial, sans-serif; font-size: 14pt;">Serviranno alcuni volontari da adibire alla registrazione dei concorrenti: comunicare la disponibilità in segreteria.</span></p>
LOCATION:Strada per Vienna 92\, 34151 Trieste\, Friuli-Venezia Giulia\, Italia
GEO:45.69018050;13.79903850
LAST-MODIFIED:20220527T070145Z
SEQUENCE:1173
X-ACCESS:1
X-HITS:91
X-URL:https://anatrieste.it/index.php?option=com_dpcalendar&view=event&id=64&calid=70
X-COLOR:3366cc
X-SHOW-END-TIME:0
END:VEVENT
END:VCALENDAR